BEGIN:VCALENDAR
VERSION:2.0
PRODID:-//Chess Power House - ECPv6.15.20//NONSGML v1.0//EN
CALSCALE:GREGORIAN
METHOD:PUBLISH
X-ORIGINAL-URL:https://chesspowerhouse.co.za
X-WR-CALDESC:Events for Chess Power House
REFRESH-INTERVAL;VALUE=DURATION:PT1H
X-Robots-Tag:noindex
X-PUBLISHED-TTL:PT1H
BEGIN:VTIMEZONE
TZID:UTC
BEGIN:STANDARD
TZOFFSETFROM:+0000
TZOFFSETTO:+0000
TZNAME:UTC
DTSTART:20250101T000000
END:STANDARD
END:VTIMEZONE
BEGIN:VEVENT
DTSTART;TZID=UTC:20260215T083000
DTEND;TZID=UTC:20260215T083000
DTSTAMP:20260420T011842
CREATED:20260130T140031Z
LAST-MODIFIED:20260214T195259Z
UID:2767-1771144200-1771144200@chesspowerhouse.co.za
SUMMARY:Chess Power House Feb Rapid 2026
DESCRIPTION:DATE \nSunday 15 February 2026 \nSECTIONS \nSection A (Chessa under 1900)\nSection B (Highschool)\nSection C (Grd 5-7)\nSection D (Grd 3-4)\nSection E (Grd 0-2)\nPlayers can choose to enter into\na higher section \nVENUE \nKing David Linksfield\nHighschool Hall\n100 Club Street\nLinksfield \nTIME CONTROL \n20min+2se c move \nSCHEDULE \nArrival 8.30am\nRound 1 starts 9:00am \nRATE OF PLAY\n5 Rounds \nPRIZES \nSection A \n1st R2000\n2nd R1200\n3rd R700\n4th R400\nBest Female R500 \nB\,C\,D and E \nTrophies\n& Medals\nFor top 3 players\nBest Female\n+Youngest player \nENTRY FEE\nA: R250\nB\,C\,D and E : R200 \nEntries close on 14/02/2026\nR50 penalty for late entries\nWhatsApp Proof Of Payment\nContact: Clive: 065 883 5613\nTshediso: 083 961 8602 \nClocks will be provided. \nBANKING DETAILS \nAccount Name: Chess Power House Club\nAccount Number: 63113863153\nBank: FNB/RMB\nBranch: 250655 \n 
URL:https://chesspowerhouse.co.za/event/chess-power-house-feb-rapid/
LOCATION:King David Linksfield\, cnr and\, Club St & Bedford St\, Linksfield\,\, 2192\, Johannesburg\, Gauteng\, 2192\, South Africa
CATEGORIES:Upcoming Events
ATTACH;FMTTYPE=image/png:https://chesspowerhouse.co.za/wp-content/uploads/2023/02/closed-1.png
ORGANIZER;CN="Clive Mthunzi":MAILTO:clive@chesspowerhouse.co.za
END:VEVENT
BEGIN:VEVENT
DTSTART;TZID=UTC:20260221T080000
DTEND;TZID=UTC:20260221T080000
DTSTAMP:20260420T011842
CREATED:20260209T131956Z
LAST-MODIFIED:20260219T221219Z
UID:2782-1771660800-1771660800@chesspowerhouse.co.za
SUMMARY:Chess Power House February Open 2026
DESCRIPTION:DATE \n21 February 2026 \nSECTIONS \nSection Prestige (Open)\nSection A (Chessa under 1800)\nSection B (Highschool)\nSection C (Grd 5-7)\nSection D (Grd 3-4)\nSection E (Grd 0-2)\nPlayers can choose to enter into\na higher section \nVENUE \nReddam House\nBedfordview\n28 Smith Road\nBedfordview\,Germiston \nTIME CONTROL \n55min+5s/move \nSCHEDULE \nSat\nRound 1 starts 8:00am (Prestige\, and A)\nRound 1 starts 8:30am (B\,C\,D and E) \nRATE OF PLAY\n5 Rounds \nPRIZES \nPrestige\n1st R3000\n2nd R2000\n3rd R1000\n4th R500\nBest Junior R500 \nSection A \n1st R2500\n2nd R1300\n3rd R750\n4th R500\nBest Female R500 \nB\,C\,D and E \nTrophies\n& Medals\nFor top 3 players\nBest Female\n+Youngest player \nENTRY FEE\nPrestige : R350\nA : R300\nB\,C\,D and E : R250 \nEntries close on 14/02/2026\nR50 penalty for late entries\nWhatsApp Proof Of Payment\nContact: Clive: 065 883 5613\nTshediso: 083 961 8602 \nClocks will be provided. \nBANKING DETAILS \nAccount Name: Chess Power House Club\nAccount Number: 63113863153\nBank: FNB/RMB\nBranch: 250655 \n 
URL:https://chesspowerhouse.co.za/event/chess-power-house-february-open-2/
LOCATION:Reddam House Bedfordview\, 28 Smith Rd\, Bedfordview\, Gauteng\, 2008\, South Africa
CATEGORIES:Upcoming Events
ATTACH;FMTTYPE=image/png:https://chesspowerhouse.co.za/wp-content/uploads/2023/02/closed-1.png
ORGANIZER;CN="Clive Mthunzi":MAILTO:clive@chesspowerhouse.co.za
END:VEVENT
BEGIN:VEVENT
DTSTART;TZID=UTC:20260314T080000
DTEND;TZID=UTC:20260314T080000
DTSTAMP:20260420T011842
CREATED:20260224T220324Z
LAST-MODIFIED:20260312T214229Z
UID:2805-1773475200-1773475200@chesspowerhouse.co.za
SUMMARY:Chess Power House Boksburg Open 2026
DESCRIPTION:DATE \n14 March 2026 \nSECTIONS \nPrestige (Open)\nSection A (FIDE under 1800)\nSection B (Highschool)\nSection C (Grd 5-7)\nSection D (Grd 3-4)\nSection E (Grd 0-2)\nPlayers can choose to enter into\na higher section \nVENUE \nLaerskool\nWestwood\n18 Phillips Road \, Boksburg \nTIME CONTROL \n50/50min+10s per move\nNote: Only A Section is\nFIDE rated \nSCHEDULE \nRound 1 starts 8:00am (Prestige and Open A)\nRound 1 starts 8:30am (Section B\, C \,D & E) \nRATE OF PLAY\n5 Rounds \nPRIZES \nPrestige\n1st R3000\n2nd R2000\n3rd R1000\n4th R500\nBest Junior R500 \nSection A \n1st R2500\n2nd R1500\n3rd R750\n4th R500\nBest Female R500 \nSection B \n1st R1000\n2nd R700\n3rd R500 \nSection C\,D and E \nTrophies\n& Medals\nFor top 3 players\n+Youngest player \nENTRY FEE\nPrestige & A : R350\nSection B : R250\nSection C\,D and E : R220 \nEntries close on 14/02/2026\nR50 penalty for late entries\nWhatsApp Proof Of Payment\nContact: Clive: 065 883 5613\nTshediso: 083 961 8602 \nClocks will be provided. \nBANKING DETAILS \nBank: FNB/RMB\nAccount Holder: *Boksburg Chess Club\nAccount Type: Gold Business Account \nAccount Number: 62740366217\nBranch Code: 250655 \n 
URL:https://chesspowerhouse.co.za/event/chess-power-house-boksburg-open-2026/
LOCATION:Laerskool Westwood\, 18 Phillips Road\, Boksburg\, Gauteng\, 1501\, South Africa
CATEGORIES:Upcoming Events
ATTACH;FMTTYPE=image/png:https://chesspowerhouse.co.za/wp-content/uploads/2023/02/closed-1.png
ORGANIZER;CN="Clive Mthunzi":MAILTO:clive@chesspowerhouse.co.za
END:VEVENT
BEGIN:VEVENT
DTSTART;TZID=UTC:20260427T080000
DTEND;TZID=UTC:20260427T080000
DTSTAMP:20260420T011842
CREATED:20260401T125159Z
LAST-MODIFIED:20260401T125746Z
UID:2829-1777276800-1777276800@chesspowerhouse.co.za
SUMMARY:CPH Freedom Day Open 2026
DESCRIPTION:DATE \nMonday 27 April 2026 \nSECTIONS \nPrestige (Open)\nSection A (FIDE under 1800)\nSection B (Highschool)\nSection C (Grd 5-7)\nSection D (Grd 3-4)\nSection E (Grd 0-2)\nPlayers can choose to enter into\na higher section \nVENUE \nReddam House\n28 Smith Road \, Bedfordview \nTIME CONTROL \n50/50min+10s per move\nNote: Only A Section is\nFIDE rated \nClocks will be provided.\nPlease bring your own\nnotation sheets \nSCHEDULE \nRound 1 starts 8:00am (Prestige and Open A)\nRound 1 starts 8:30am (Section B\, C \,D & E) \nRATE OF PLAY\n5 Rounds \nPRIZES \nPrestige\n1st R3000\n2nd R2000\n3rd R1000\n4th R500\nBest Junior R500 \nSection A \n1st R2500\n2nd R1500\n3rd R750\n4th R500\nBest Female R500 \nSection B \n1st R1000\n2nd R700\n3rd R500 \nSection C\,D and E \nTrophies\n& Medals\nFor top 3 players Male & Female\n+Youngest player \nENTRY FEE\nPrestige & A : R350\nSection B : R250\nSection C\,D and E : R220 \nEntries close on 25/04/2026\nR50 penalty for late entries\nWhatsApp Proof Of Payment\nContact: Clive: 065 883 5613\nTshediso: 083 961 8602 \nClocks will be provided. \nBANKING DETAILS \nAccount Name: Chess Power House\nAccount Number: 63113863153\nBank: FNB\nBranch: 250655 \nPlease enable JavaScript in your browser to complete this form.Name *FirstLastChessa IDFIDE IDName of the ClubPhone *Date of Birth *yyyy/mm/ddGenderFemaleMaleSection *Section Prestige (Open)Section A (FIDE under 1800)Section B (Highschool)Section C (Grd 5-7)Section D (Grd 3-4)Section E (Grd  0-2)Players can choose to enter into\na higher sectionEmail *Submit
URL:https://chesspowerhouse.co.za/event/cph-freedom-day-open-2026/
LOCATION:Reddam House Bedfordview\, 28 Smith Rd\, Bedfordview\, Gauteng\, 2008\, South Africa
CATEGORIES:Upcoming Events
ATTACH;FMTTYPE=image/jpeg:https://chesspowerhouse.co.za/wp-content/uploads/2026/04/CPH-Freedom-Day-Open-2026-scaled.jpg
ORGANIZER;CN="Clive Mthunzi":MAILTO:clive@chesspowerhouse.co.za
END:VEVENT
END:VCALENDAR