BEGIN:VCALENDAR
VERSION:2.0
PRODID:-//Chess Power House - ECPv6.15.20//NONSGML v1.0//EN
CALSCALE:GREGORIAN
METHOD:PUBLISH
X-WR-CALNAME:Chess Power House
X-ORIGINAL-URL:https://chesspowerhouse.co.za
X-WR-CALDESC:Events for Chess Power House
REFRESH-INTERVAL;VALUE=DURATION:PT1H
X-Robots-Tag:noindex
X-PUBLISHED-TTL:PT1H
BEGIN:VTIMEZONE
TZID:UTC
BEGIN:STANDARD
TZOFFSETFROM:+0000
TZOFFSETTO:+0000
TZNAME:UTC
DTSTART:20220101T000000
END:STANDARD
END:VTIMEZONE
BEGIN:VEVENT
DTSTART;TZID=UTC:20240818T080000
DTEND;TZID=UTC:20240818T170000
DTSTAMP:20260419T204300
CREATED:20240726T000801Z
LAST-MODIFIED:20240816T232045Z
UID:2194-1723968000-1724000400@chesspowerhouse.co.za
SUMMARY:King David Linksfield Rapid CHESSA RATED August 2024
DESCRIPTION:DATE \n18 August 2024 \n  \nVENUE \nHighschool Hall\nKing David Linksfield School\nBedford Entrance\nLinksfield \n  \nSECTIONS \nSection A (Highschool)\nSection B (Grade 5-7)\nSection C (Grade 3-4)\nSection D (Grade 0-2) \n  \nTIME CONTROL \n20/20mins\n5 Round Swiss \n  \nENTRY FEE \nSections A\,B\,C\,D – R200 \n  \nSCHEDULE\nArrival – 8.30am\nRound 1 – 9.00am\nRounds 2 to 5\nRate of Play \n  \nSECTION A\,B \, C and D \n1st Place Trophy + Medal\n2nd Place Silver Medal\n3rd Place Bronze Medal\nTop 3 Prizes for girls in each section\nYoungest Participant – Gold medal \nBest Female prize R500 for A and B provided\nthere are at least 3 females in the section \nTop 3 Females in all sections get medals \n  \nEntries Limited\nR50 penalty for late entries\nPlease bring your own notation pads\nSend Proof of Payment to: Clive 065 883 5613 \n  \nBANK ACCOUNT: \nAcc. 62927602351\nFNB/RMB\nBranch – 250655
URL:https://chesspowerhouse.co.za/event/king-david-linksfield-rapid-chessa-rated-august-2024/
LOCATION:King David Linksfield\, cnr and\, Club St & Bedford St\, Linksfield\,\, 2192\, Johannesburg\, Gauteng\, 2192\, South Africa
CATEGORIES:Upcoming Events
ATTACH;FMTTYPE=image/png:https://chesspowerhouse.co.za/wp-content/uploads/2023/02/closed-1.png
ORGANIZER;CN="Clive Mthunzi":MAILTO:clive@chesspowerhouse.co.za
END:VEVENT
BEGIN:VEVENT
DTSTART;TZID=UTC:20240720T080000
DTEND;TZID=UTC:20240720T170000
DTSTAMP:20260419T204300
CREATED:20240628T092857Z
LAST-MODIFIED:20240719T105037Z
UID:2182-1721462400-1721494800@chesspowerhouse.co.za
SUMMARY:Chess Powerhouse June July 2024
DESCRIPTION:DATE \n20 July 2024 \n  \nVENUE \nRoyce Hall\nSt. Peter’s Girls Prep School\n105 Witkoppen Road\nPaulshof\, Sandton \n  \nSECTIONS \nPrestige – (CHESSA 1800+)\nSection A – (CHESSA< 1799)\nSection B – (CHESSA<1500)\nSection C – Grade 5 -7\nSection D – Grade 3-4\nSection E – Grade 0-2 \n  \nTIME CONTROL \n55mins + 5sec/move \n  \nENTRY FEE \nPrestige: R350 / Section B\,C\,D : R250 and E: R200\nSection A: R300 \n  \nSCHEDULE\nSection Prestige\, A and B\nRound 1 – 08:00\nRate of Play \nSection C\, D and E\nRound 1 starts 08:30.\nRate of play.\n15 Minutes between rounds. \n  \nPrestige\n1st R3000\n2nd R2000\n3rd R1000\n4th  R600 \nSection A\n1st R2000\n2nd R1500\n3rd R1000\n4th R500 \nSection B\n1st R1200\n2nd R800\n3rd R500\n4th R400 \nC\,D and E\nTrophies\n& Medals \nBest Female prize R500 for A and B provided\nthere are at least 3 females in the section \nTop 3 Females in all sections get medals \n  \nEntries Limited\nR50 penalty for late entries\nPlease bring your own notation pads\nSend Proof of Payment to: Clive 065 883 5613 \n  \nBANK ACCOUNT: \nAcc. 62927602351\nFNB/RMB\nBranch – 250655 \n 
URL:https://chesspowerhouse.co.za/event/chess-powerhouse-june-open-2024-2/
LOCATION:St Peter’s Girls Prep Schools\, 105 Witkoppen Rd\, Paulshof\, Sandton\, Gauteng\, 2062\, South Africa
CATEGORIES:Upcoming Events
ATTACH;FMTTYPE=image/png:https://chesspowerhouse.co.za/wp-content/uploads/2023/02/closed-1.png
ORGANIZER;CN="Clive Mthunzi":MAILTO:clive@chesspowerhouse.co.za
END:VEVENT
BEGIN:VEVENT
DTSTART;TZID=UTC:20240623T080000
DTEND;TZID=UTC:20240623T170000
DTSTAMP:20260419T204300
CREATED:20240617T234514Z
LAST-MODIFIED:20240621T111853Z
UID:2166-1719129600-1719162000@chesspowerhouse.co.za
SUMMARY:Chess Powerhouse June Open 2024
DESCRIPTION:DATE \n23 June 2024 \n  \nVENUE \nThe Buzz\n27 Voortrekker Avenue\nEdenvale \n  \nSECTIONS \nOpen A – (CHESSA 1600+)\nSection B – (CHESSA<1600)\nSection C – Primary School \n  \nTIME CONTROL \n60/60mins \n  \nENTRY FEE \nOpen A: R300 / Section B and Primary R250\nEntries Limited!!!! \n  \nSCHEDULE\nSection A and B\nRound 1 – 08:00\nRate of Play \nPrimary\nRound 1 starts 08:30.\nRate of play.\n15 Minutes between rounds. \n  \nOpen A\n1st R2500\n2nd R1500\n3rd R1000 \nSection B\n1st R1500\n2nd R1000\n3rd R500 \nPrimary\nTrophies\n& Medals \n  \nBest Female prize R500 for A and B provided\nthere are at least 3 females in the section \nTop 3 Females in all sections get medals \n  \nEntries Limited\nR50 penalty for late entries\nPlease bring your own notation pads\nSend Proof of Payment to: Clive 065 883 5613 \n  \nBANK ACCOUNT: \nAcc. 62927602351\nFNB/RMB\nBranch – 250655 \n 
URL:https://chesspowerhouse.co.za/event/chess-powerhouse-june-open-2024/
LOCATION:The Buzz\, 27 Voortrekker Avenue\, Edenvale\, Gauteng\, 1609\, South Africa
ATTACH;FMTTYPE=image/png:https://chesspowerhouse.co.za/wp-content/uploads/2023/02/closed-1.png
ORGANIZER;CN="Clive Mthunzi":MAILTO:clive@chesspowerhouse.co.za
END:VEVENT
BEGIN:VEVENT
DTSTART;TZID=UTC:20240525T080000
DTEND;TZID=UTC:20240525T170000
DTSTAMP:20260419T204300
CREATED:20240507T230814Z
LAST-MODIFIED:20240523T185043Z
UID:2154-1716624000-1716656400@chesspowerhouse.co.za
SUMMARY:Chess Powerhouse May Open 2024
DESCRIPTION:SECTIONS: \nOpen A – (CHESSA 1600+)\nSection B – (CHESSA<1600)\nSection C (Grade 5-7)\nSection D (Grade 3-4)\nSection E (Grade 0-2) \n  \nTIME CONTROL: \n60/60mins \n  \nSCHEDULE: \nSection A and B  \n\nRound 1 – 08:00\nRound 2 – 10:00\nRate of Play\n\nSection C\, D and E \n\nRound 1 starts 08:30.\nRate of play.\n15 Minutes between rounds.\n\n  \nPRIZES \nOPEN A \n\n1st R3000\n2nd R2000\n3rd R1000\n4th R600\n\n  \nSECTION B \n\n1st R1500\n2nd R1000\n3rd R500\n4th R400\n\n  \nSECTION C\,D and E \n\nTrophies & Medals\n\n  \nBest Female prize R500 for A and B provided there are at least 3 females in the section  \n  \nENTRY FEE: \nOpen A: R300 / Section B\,C\,D : R250 and E: R200 \nTop 3 Females in all sections get medals \n  \nR50 penalty for late entries\nTuck shop available\nContact: Clive 065 883 5613/Tshediso 083 961 8602 \n  \nBANK ACCOUNT: \nAcc. 62927602351\nFNB/RMB\nBranch – 250655 \n  \n  \n 
URL:https://chesspowerhouse.co.za/event/chess-powerhouse-may-open-2024/
LOCATION:St Peter’s Girls Prep Schools\, 105 Witkoppen Rd\, Paulshof\, Sandton\, Gauteng\, 2062\, South Africa
CATEGORIES:Upcoming Events
ATTACH;FMTTYPE=image/png:https://chesspowerhouse.co.za/wp-content/uploads/2023/02/closed-1.png
ORGANIZER;CN="Clive Mthunzi":MAILTO:clive@chesspowerhouse.co.za
END:VEVENT
BEGIN:VEVENT
DTSTART;TZID=UTC:20240421T080000
DTEND;TZID=UTC:20240421T170000
DTSTAMP:20260419T204300
CREATED:20240401T010055Z
LAST-MODIFIED:20240421T200322Z
UID:2134-1713686400-1713718800@chesspowerhouse.co.za
SUMMARY:JCC king David linksfield Rapid
DESCRIPTION:SECTIONS: \nSection A (Highschool)\nSection B (Grade 5-7)\nSection C (Grade 3-4)\nSection D (Grade 0-2) \n  \nTIME CONTROL: \n20/20mins\n5 Round Swiss \n  \nSCHEDULE: \n\nArrival – 8.30am\nRound 1 – 9.00am\nRounds 2 to 5\nRate of Play\n\n  \nSECTION A\,B \, C \,D: \n\n1st Place Trophy + Medal\n2nd Place Silver Medal\n3rd Place Bronze Medal\nBest Female – Gold Medal\nYoungest Participant – Gold medal\n\n  \nENTRY FEE:\nSECTIONS AB\,C\,D – R200 \nClocks will be provided for the top few boards in each section. Please bring your own if possible. \n  \nEntries close on 19 April 2023\nR50 penalty for late entries\nTuck shop available\nContact: Clive 065 883 5613/Tshediso 083 961 8602 \n  \nBANK ACCOUNT: \nAcc. 62927602351\nFNB/RMB\nBranch – 250655 \n  \n 
URL:https://chesspowerhouse.co.za/event/jcc-king-david-linksfield-rapid/
LOCATION:King David Linksfield\, cnr and\, Club St & Bedford St\, Linksfield\,\, 2192\, Johannesburg\, Gauteng\, 2192\, South Africa
CATEGORIES:Upcoming Events
ATTACH;FMTTYPE=image/png:https://chesspowerhouse.co.za/wp-content/uploads/2023/02/closed-1.png
ORGANIZER;CN="Clive Mthunzi":MAILTO:clive@chesspowerhouse.co.za
END:VEVENT
BEGIN:VEVENT
DTSTART;TZID=UTC:20240330T080000
DTEND;TZID=UTC:20240330T170000
DTSTAMP:20260419T204300
CREATED:20240316T091344Z
LAST-MODIFIED:20240328T205808Z
UID:2121-1711785600-1711818000@chesspowerhouse.co.za
SUMMARY:CPH St Andrew’s Rapid - CHESSA Rated
DESCRIPTION:SECTIONS: \nSection A (Highschool)\nSection B (Grade 5-7)\nSection C (Grade 3-4)\nSection D (Grade 0-2) \n  \nTIME CONTROL: \n20/20mins\n5 Round Swiss \n  \nSCHEDULE: \n\nArrival – 8.30am\nRound 1 – 9.00am\nRounds 2 to 5\nRate of Play\n\n  \nSECTION A\,B \, C \,D: \n\n1st Place Trophy + Medal\n2nd Place Silver Medal\n3rd Place Bronze Medal\nBest Female – Gold Medal\nYoungest Participant – Gold medal\n\n  \nENTRY FEE:\nSECTIONS AB\,C\,D and E – R200 \nClocks will be provided for the top few boards in each section. Please bring your own if possible. \n 
URL:https://chesspowerhouse.co.za/event/cph-st-andrews-rapid-chessa-rated/
LOCATION:St Andrew’s School\, St Andrew’s Avenue Senderwood\,\, Bedfordview\, Gauteng\, 2145\, South Africa
ATTACH;FMTTYPE=image/png:https://chesspowerhouse.co.za/wp-content/uploads/2023/02/closed-1.png
ORGANIZER;CN="Clive Mthunzi":MAILTO:clive@chesspowerhouse.co.za
END:VEVENT
BEGIN:VEVENT
DTSTART;TZID=UTC:20231125T080000
DTEND;TZID=UTC:20231126T170000
DTSTAMP:20260419T204300
CREATED:20230715T081259Z
LAST-MODIFIED:20231114T063327Z
UID:2005-1700899200-1701018000@chesspowerhouse.co.za
SUMMARY:Chess Powerhouse Schools Chess Festival
DESCRIPTION:ACCOMMODATION\nEach school is to make it’s own accommodation arrangements \n  \nTOURNAMENT FEE:\nR1500 / person (players staff) and includes: \n\nDinners: Friday\, Saturday\, and Sunday\nLunches: Saturday\, Sunday\nFirst Aid\, Goody Bags\, Tour Item\nSpecial Event\n\n  \nITINERARY\nSATURDAY\, 25 November \n\nTeams arrive.\n15:30 – 17:00 Team Photographs\n17:15 Coaches & Managers Meeting\n18:00 Welcome & war cries (players to wear school kit)\n18:30 Supper\n\n  \nSUNDAY\, 9 November \n\n09:00 Round 1\n11:30 Round 2\nLunch served at venues.\n14:00 Round 3\n16:30 Round 4\n19:00 Players Pizza & Disco (players may wear civvies)\n19:30 Coaches/Managers/Staff Dinner (& AGM)\n\n  \nSUNDAY\, 26 November \n\n09:00 Round 5\n11:30 Round 6\nLunch served at venues.\nTeams return to hostel/hotels/homes.\n\n  \nPrizes \n\nTrophies\nChessPower HouseMerchandise\,\nMedals\nChess Study Material\n\nPlease enable JavaScript in your browser to complete this form.Name of the Teacher *FirstLastEmail *Name of the School *Number of PlayersSubmit
URL:https://chesspowerhouse.co.za/event/chess-powerhouse-schools-chess-festival/
LOCATION:St Peter’s Girls Prep Schools\, 105 Witkoppen Rd\, Paulshof\, Sandton\, Gauteng\, 2062\, South Africa
CATEGORIES:Upcoming Events
ORGANIZER;CN="Clive Mthunzi":MAILTO:clive@chesspowerhouse.co.za
END:VEVENT
BEGIN:VEVENT
DTSTART;TZID=UTC:20230819T080000
DTEND;TZID=UTC:20230820T170000
DTSTAMP:20260419T204300
CREATED:20230720T135544Z
LAST-MODIFIED:20230817T194701Z
UID:2018-1692432000-1692550800@chesspowerhouse.co.za
SUMMARY:Chess Powerhouse Open 2023 FIDE/CHESSA RATED
DESCRIPTION:SECTIONS \nPrestige (Invitational)\nOpen A (CHESSA 1400+)\nSection B (CHESSA<1400)\nSection C (U/12\, CHESSA <1000)\nSection D (U8) \n  \nENTREE FEE \nOpen A: R300 / Section B: R200 / Section C and D: R150 \n  \nTIME CONTROL \nPrestige and A: 60/60+30s/m\nSection B\,C and D: 60/60 \n  \nSCHEDULE \nPrestige and Open A\nSaturday 19th\nRound 1: 08:30\nRound 2: 12:00\nRound 3: 15:30 \nSunday 20th\nRound 4: 08:30\nRound 5: 12:00 \n  \nSection B\, C \nSaturday 19th\nRound 1 starts 08:30.\nRate of play.\n15 Minutes between rounds. \n  \nPrizes \nPrestige  \n1st R4000\n2nd R2000\n3rd R1500 \nOpen A\n1st R3000\n2nd R2000\n3rd R1500\n4th R1000\n5th R500 \nSection B\n1st R1000\n2nd R700\n3rd R500 \nC and D\nTrophies\n& Medals \n 
URL:https://chesspowerhouse.co.za/event/chess-powerhouse/
LOCATION:St Peter’s Girls Prep Schools\, 105 Witkoppen Rd\, Paulshof\, Sandton\, Gauteng\, 2062\, South Africa
CATEGORIES:Upcoming Events
ATTACH;FMTTYPE=image/png:https://chesspowerhouse.co.za/wp-content/uploads/2023/02/closed-1.png
END:VEVENT
BEGIN:VEVENT
DTSTART;TZID=UTC:20230610T080000
DTEND;TZID=UTC:20230610T140000
DTSTAMP:20260419T204300
CREATED:20230525T144906Z
LAST-MODIFIED:20230526T082756Z
UID:1980-1686384000-1686405600@chesspowerhouse.co.za
SUMMARY:Primrose Chess Club Rapid
DESCRIPTION:Please enable JavaScript in your browser to complete this form.Name *FirstLastDate of Birth *dd/mm/yyyyChessa ID *Phone *GenderFemaleMaleSection *Highschoolgrd 5-7grd 3-4grd 0-2LSENEmail *Submit  ENTRY FEE:\nR150 per player\nUse Player Name as reference\n(Highschool)(  grd 5 7)( grd 3 4)( grd 0 2)(LSEN) \nVENUE\nIthembelihle School\nCnr Cypress Elm Street\nPrimrose \nTrophies and Medals\n30/30mins\n10 June 2023 \nEnter Here\nwww.chesspowerhouse.co.za/events \n  \nEntries close on date 9 June 1400hrs
URL:https://chesspowerhouse.co.za/event/primrose-chess-club-rapid/
LOCATION:Sunnyridge Primary School\, 25 Pitts Ave\, Sunnyridge\,\, Germiston\,\, Gauteng\, 1401
CATEGORIES:Upcoming Events
ATTACH;FMTTYPE=image/png:https://chesspowerhouse.co.za/wp-content/uploads/2023/05/Primrose-Rapid.png
ORGANIZER;CN="Clive Mthunzi":MAILTO:clive@chesspowerhouse.co.za
END:VEVENT
BEGIN:VEVENT
DTSTART;TZID=UTC:20230325T083000
DTEND;TZID=UTC:20230326T153000
DTSTAMP:20260419T204300
CREATED:20230307T074248Z
LAST-MODIFIED:20230307T083205Z
UID:1943-1679733000-1679844600@chesspowerhouse.co.za
SUMMARY:CPH March FIDE RR
DESCRIPTION:Format: 6 Player Round Robins. Sections: A and B. Prizes: Cash Prizes TBA  Time Control: 60/60min+30sec per move  Entry Closes: 20 March 2023 18h00 Entree Fee: R300 use Player name as Reference \n\n 
URL:https://chesspowerhouse.co.za/event/cph-march-fide-rr/
LOCATION:Sunnyridge Primary School\, 25 Pitts Ave\, Sunnyridge\,\, Germiston\,\, Gauteng\, 1401
CATEGORIES:Upcoming Events
ATTACH;FMTTYPE=image/png:https://chesspowerhouse.co.za/wp-content/uploads/2023/03/Chess-Powerhouse-RR-template.png
ORGANIZER;CN="Clive Mthunzi":MAILTO:clive@chesspowerhouse.co.za
END:VEVENT
BEGIN:VEVENT
DTSTART;TZID=UTC:20230226T083000
DTEND;TZID=UTC:20230226T153000
DTSTAMP:20260419T204300
CREATED:20230130T085141Z
LAST-MODIFIED:20230216T115113Z
UID:1885-1677400200-1677425400@chesspowerhouse.co.za
SUMMARY:JCC Linksfield Rapid!
DESCRIPTION:Format: 20/20min Rapid. Sections: Grd 0-2 / Grd 3-4 / Grd 5-7 High School. Prizes: Trophies and Medals / Best Girl Prize in each section. \n\n 
URL:https://chesspowerhouse.co.za/event/jcc-linksfield-rapid/
LOCATION:King David Linksfield\, cnr and\, Club St & Bedford St\, Linksfield\,\, 2192\, Johannesburg\, Gauteng\, 2192\, South Africa
CATEGORIES:Upcoming Events
ATTACH;FMTTYPE=image/jpeg:https://chesspowerhouse.co.za/wp-content/uploads/2023/01/WhatsApp-Image-2023-02-16-at-07.51.11.jpeg
ORGANIZER;CN="Clive Mthunzi":MAILTO:clive@chesspowerhouse.co.za
END:VEVENT
BEGIN:VEVENT
DTSTART;TZID=UTC:20230218T083000
DTEND;TZID=UTC:20230218T200000
DTSTAMP:20260419T204300
CREATED:20230116T134311Z
LAST-MODIFIED:20230131T182207Z
UID:1724-1676709000-1676750400@chesspowerhouse.co.za
SUMMARY:Chess Power House Feb RR CHESSA Rated
DESCRIPTION:Format\n6 Player Round Robin \nSections\nC and D only \nPrizes\n1st R800  2nd R400 \nTime Control\n60min+2secs \nEntry Fee\nR250 use Player Name as reference
URL:https://chesspowerhouse.co.za/event/chess-power-house-feb-fide-rr/
LOCATION:Sunnyridge Primary School\, 25 Pitts Ave\, Sunnyridge\,\, Germiston\,\, Gauteng\, 1401
CATEGORIES:Upcoming Events
ATTACH;FMTTYPE=image/png:https://chesspowerhouse.co.za/wp-content/uploads/2023/01/Chess-Powerhouse-RR-1.png
ORGANIZER;CN="Clive Mthunzi":MAILTO:clive@chesspowerhouse.co.za
END:VEVENT
BEGIN:VEVENT
DTSTART;TZID=UTC:20230128T080000
DTEND;TZID=UTC:20230128T160000
DTSTAMP:20260419T204300
CREATED:20210304T031114Z
LAST-MODIFIED:20230118T064258Z
UID:446-1674892800-1674921600@chesspowerhouse.co.za
SUMMARY:Chess Power House January Rapid Chessa Rated!
DESCRIPTION:Format\nRapid Chess \nPrizes\nTrophies\, Medals\, and Chess Study Material \nSections\nUnder 8s (Grd 0 to 2) \nUnder 10s (Grd 3 to 4) \nUnder 13s (Grd 5 to 7) \nHigh School
URL:https://chesspowerhouse.co.za/event/chess-power-house-january-rapid-chessa-rated/
LOCATION:St Peter’s Girls Prep Schools\, 105 Witkoppen Rd\, Paulshof\, Sandton\, Gauteng\, 2062\, South Africa
CATEGORIES:Upcoming Events
ATTACH;FMTTYPE=image/png:https://chesspowerhouse.co.za/wp-content/uploads/2021/03/Kids-Tournament.png
ORGANIZER;CN="Clive Mthunzi":MAILTO:clive@chesspowerhouse.co.za
END:VEVENT
END:VCALENDAR