BEGIN:VCALENDAR
VERSION:2.0
PRODID:-//Chess Power House - ECPv6.15.20//NONSGML v1.0//EN
CALSCALE:GREGORIAN
METHOD:PUBLISH
X-WR-CALNAME:Chess Power House
X-ORIGINAL-URL:https://chesspowerhouse.co.za
X-WR-CALDESC:Events for Chess Power House
REFRESH-INTERVAL;VALUE=DURATION:PT1H
X-Robots-Tag:noindex
X-PUBLISHED-TTL:PT1H
BEGIN:VTIMEZONE
TZID:UTC
BEGIN:STANDARD
TZOFFSETFROM:+0000
TZOFFSETTO:+0000
TZNAME:UTC
DTSTART:20220101T000000
END:STANDARD
END:VTIMEZONE
BEGIN:VEVENT
DTSTART;TZID=UTC:20230128T080000
DTEND;TZID=UTC:20230128T160000
DTSTAMP:20260419T234646
CREATED:20210304T031114Z
LAST-MODIFIED:20230118T064258Z
UID:446-1674892800-1674921600@chesspowerhouse.co.za
SUMMARY:Chess Power House January Rapid Chessa Rated!
DESCRIPTION:Format\nRapid Chess \nPrizes\nTrophies\, Medals\, and Chess Study Material \nSections\nUnder 8s (Grd 0 to 2) \nUnder 10s (Grd 3 to 4) \nUnder 13s (Grd 5 to 7) \nHigh School
URL:https://chesspowerhouse.co.za/event/chess-power-house-january-rapid-chessa-rated/
LOCATION:St Peter’s Girls Prep Schools\, 105 Witkoppen Rd\, Paulshof\, Sandton\, Gauteng\, 2062\, South Africa
CATEGORIES:Upcoming Events
ATTACH;FMTTYPE=image/png:https://chesspowerhouse.co.za/wp-content/uploads/2021/03/Kids-Tournament.png
ORGANIZER;CN="Clive Mthunzi":MAILTO:clive@chesspowerhouse.co.za
END:VEVENT
END:VCALENDAR